BEGIN:VCALENDAR
VERSION:2.0
PRODID:-//Squarespace Inc/Squarespace 6//v6//EN
BEGIN:VEVENT
UID:5bd27eb9ec212de227f7f3a7@squarespace.com
DTSTAMP:20190721T035246Z
DTSTART:20190807T070000Z
DTEND:20190807T080000Z
SUMMARY:Like a River - Forum North
GEO:-35.724076;174.318161
LOCATION:Forum North\, 7 Rust Avenue\, Whangarei
END:VEVENT
END:VCALENDAR
