BEGIN:VCALENDAR
VERSION:2.0
PRODID:-//Squarespace Inc/Squarespace 6//v6//EN
BEGIN:VEVENT
UID:5bc7d1a84192020b1d07875f@squarespace.com
DTSTAMP:20190913T010338Z
DTSTART:20190723T070000Z
DTEND:20190729T070000Z
SUMMARY:Like a River - Basement Theatre
GEO:-36.854541;174.760737
LOCATION:Basement Theatre\, Lower Greys Ave\, Auckland Central
END:VEVENT
END:VCALENDAR
