BEGIN:VCALENDAR
VERSION:2.0
PRODID:-//Squarespace Inc/Squarespace 6//v6//EN
BEGIN:VEVENT
UID:5bf20a1d4d7a9cecabc0a8d1@squarespace.com
DTSTAMP:20190918T021709Z
DTSTART:20191016T060000Z
DTEND:20191026T060000Z
SUMMARY:Half of the Sky - Q Theatre Loft
GEO:-36.852763;174.763471
LOCATION:Q Theatre Loft\, 305 Queen Street\, Auckland
END:VEVENT
END:VCALENDAR
