BEGIN:VCALENDAR
VERSION:2.0
PRODID:-//Squarespace Inc/Squarespace 6//v6//EN
BEGIN:VEVENT
UID:5d913318327fbb5c303d6714@squarespace.com
DTSTAMP:20191126T231458Z
DTSTART:20200729T230000Z
DTEND:20200731T083000Z
SUMMARY:Te Whare Kapua: The Cloud House - Whangarei
GEO:-35.721563;174.320795
LOCATION:ONEONESIX\, 116 Bank Street\, Whangarei
END:VEVENT
END:VCALENDAR
