BEGIN:VCALENDAR
VERSION:2.0
PRODID:-//Squarespace Inc/Squarespace 6//v6//EN
BEGIN:VEVENT
UID:5d86ec4cb41b640ba53a88ea@squarespace.com
DTSTAMP:20191126T231250Z
DTSTART:20200721T070000Z
DTEND:20200727T083000Z
SUMMARY:Te Whare Kapua: The Cloud House
GEO:-36.852763;174.763471
LOCATION:Q Theatre Loft\, 305 Queen Street\, Auckland City
END:VEVENT
END:VCALENDAR
