BEGIN:VCALENDAR
VERSION:2.0
PRODID:-//Squarespace Inc/Squarespace 6//v6//EN
BEGIN:VEVENT
UID:5b30a5f22b6a28effe11e8f6@squarespace.com
DTSTAMP:20180718T234317Z
DTSTART:20180727T070000Z
DTEND:20180727T080000Z
SUMMARY:Sightings Friday Night Meet Up 
GEO:-36.852763;174.763471
LOCATION:Q Theatre\, 305 Queen Street\, Auckland 1010\, New Zealand
END:VEVENT
END:VCALENDAR
