BEGIN:VCALENDAR
VERSION:2.0
PRODID:-//Squarespace Inc/Squarespace 6//v6//EN
BEGIN:VEVENT
UID:5b3c9c9e758d46435986ca08@squarespace.com
DTSTAMP:20180704T104923Z
DTSTART:20180725T053000Z
DTEND:20180725T080000Z
SUMMARY:Sightings Backstage :  A fundraiser
GEO:-36.852763;174.763471
LOCATION:Q Theatre\, 305 Queen Street\, Auckland\, 1010\, New Zealand
END:VEVENT
END:VCALENDAR
