BEGIN:VCALENDAR
VERSION:2.0
PRODID:-//Squarespace Inc/Squarespace 6//v6//EN
BEGIN:VEVENT
UID:5a67ba8324a694e6d1c1602c@squarespace.com
DTSTAMP:20180706T065740Z
DTSTART:20180907T070000Z
DTEND:20180907T080000Z
SUMMARY:Going West Festival Glen Eden
GEO:-36.910911;174.649035
LOCATION:Glen Eden Playhouse\, 15 Glendale Road\, Auckland\, Auckland\, 060
 2\, New Zealand
END:VEVENT
END:VCALENDAR
