BEGIN:VCALENDAR
VERSION:2.0
PRODID:-//Squarespace Inc/Squarespace 6//v6//EN
BEGIN:VEVENT
UID:5a67ad0a0d9297e9ee860f1a@squarespace.com
DTSTAMP:20180706T065421Z
DTSTART:20180724T070000Z
DTEND:20180728T080000Z
SUMMARY:Q Theatre Loft
GEO:-36.852763;174.763471
LOCATION:Q Theatre Loft\, 305 Queen Street\, Auckland\, Auckland\, 1010\, N
 ew Zealand
END:VEVENT
END:VCALENDAR
