BEGIN:VCALENDAR
VERSION:2.0
PRODID:-//Squarespace Inc/Squarespace 6//v6//EN
BEGIN:VEVENT
UID:5a67b97424a694e6d1c10f2e@squarespace.com
DTSTAMP:20180706T070554Z
DTSTART:20180801T070000Z
DTEND:20180802T070000Z
SUMMARY:Forum North Whangarei
GEO:-35.724041;174.318191
LOCATION:Forum North\, 7 Rust Avenue\, Whangarei\, Northland\, 0110\, New Z
 ealand
END:VEVENT
END:VCALENDAR
