BEGIN:VCALENDAR
VERSION:2.0
PRODID:-//Squarespace Inc/Squarespace 6//v6//EN
BEGIN:VEVENT
UID:5ddc54d23d0c4721e3f01f9e@squarespace.com
DTSTAMP:20191125T224126Z
DTSTART:20200821T020000Z
DTEND:20200821T030000Z
SUMMARY:Directors Lab Public Showing August 2020
GEO:-37.015754;174.902727
LOCATION:Nathan Homestead\, 70 Hill Road\, Manurewa\, Auckland
END:VEVENT
END:VCALENDAR
