BEGIN:VCALENDAR
VERSION:2.0
PRODID:-//Squarespace Inc/Squarespace 6//v6//EN
BEGIN:VEVENT
UID:5ddc56d1a0dbc1703f6cfb40@squarespace.com
DTSTAMP:20191125T224432Z
DTSTART:20201204T010000Z
DTEND:20201204T020000Z
SUMMARY:Directors Lab Public Showing December 2020
GEO:-37.015754;174.902727
LOCATION:Nathan Homestead\, 70 Hill Road\, Manurewa\, Auckland
END:VEVENT
END:VCALENDAR
