BEGIN:VCALENDAR
VERSION:2.0
PRODID:-//Squarespace Inc/Squarespace 6//v6//EN
BEGIN:VEVENT
UID:5d86dbb268af8823782326bb@squarespace.com
DTSTAMP:20191201T212228Z
DTSTART:20200731T220000Z
DTEND:20200802T040000Z
SUMMARY:Essentials 20+ Workshop - 2 Days 
GEO:38.289538;-90.394842
LOCATION:VENUE TBC
END:VEVENT
END:VCALENDAR
