BEGIN:VCALENDAR
VERSION:2.0
PRODID:-//Squarespace Inc/Squarespace 6//v6//EN
BEGIN:VEVENT
UID:5a304ee7e4966b844c8c451b@squarespace.com
DTSTAMP:20180815T034601Z
DTSTART:20180824T220000Z
DTEND:20180825T040000Z
SUMMARY:August Workshop - 1 Day
GEO:-36.865672;174.744999
LOCATION:Empire Studios\, 2 Bond Street\, Auckland\, 1021\, New Zealand
END:VEVENT
END:VCALENDAR
