BEGIN:VCALENDAR
VERSION:2.0
PRODID:-//Squarespace Inc/Squarespace 6//v6//EN
BEGIN:VEVENT
UID:5bd4f4fe71c10b825a06a772@squarespace.com
DTSTAMP:20190922T022121Z
DTSTART:20190322T210000Z
DTEND:20190324T030000Z
SUMMARY:March 25+ Workshop - 2 Days
GEO:-36.845828;174.765933
LOCATION:The Actors Programme\, 283 Karangahape Road\, Auckland\, 1010
END:VEVENT
END:VCALENDAR
