BEGIN:VCALENDAR
VERSION:2.0
PRODID:-//Squarespace Inc/Squarespace 6//v6//EN
BEGIN:VEVENT
UID:5d86daa14f6640459442aa97@squarespace.com
DTSTAMP:20191204T222040Z
DTSTART:20200327T210000Z
DTEND:20200329T030000Z
SUMMARY:Essentials 20+ Workshop - 2 Days
GEO:-36.85942;174.716387
LOCATION:Westpoint Performing Arts Centre\, 190 Meola Road\, Western Spring
 s\, Auckland
END:VEVENT
END:VCALENDAR
