BEGIN:VCALENDAR
VERSION:2.0
PRODID:-//Squarespace Inc/Squarespace 6//v6//EN
BEGIN:VEVENT
UID:59d214d929f1874f70a3f546@squarespace.com
DTSTAMP:20180514T025108Z
DTSTART:20180316T210000Z
DTEND:20180318T030000Z
SUMMARY:March Workshop - 2 Days
GEO:-36.865672;174.744999
LOCATION:Empire Studios\, 2 Bond Street\, Auckland\, Auckland\, 1021\, New 
 Zealand
END:VEVENT
END:VCALENDAR
