BEGIN:VCALENDAR
VERSION:2.0
PRODID:-//Squarespace Inc/Squarespace 6//v6//EN
BEGIN:VEVENT
UID:5db23309008c224d7cce2933@squarespace.com
DTSTAMP:20191101T003110Z
DTSTART:20200401T033000Z
DTEND:20200401T063000Z
SUMMARY:Auckland Arts Festival - Massive Foundations Taster Workshop 
GEO:-36.960542;174.873251
LOCATION:Otara Music Arts Centre\, 46 Fair Mall\, Otara
END:VEVENT
END:VCALENDAR
