BEGIN:VCALENDAR
VERSION:2.0
PRODID:-//Squarespace Inc/Squarespace 6//v6//EN
BEGIN:VEVENT
UID:5bd51701e5e5f0d50169cc60@squarespace.com
DTSTAMP:20190922T020659Z
DTSTART:20190414T220000Z
DTEND:20190417T040000Z
SUMMARY:April Foundations Workshop - 3 Days
GEO:-36.851857;174.762342
LOCATION:Auckland Live\, Aotea Centre\, 50 Mayoral Drive\, Auckland Central
END:VEVENT
END:VCALENDAR
