BEGIN:VCALENDAR
VERSION:2.0
PRODID:-//Squarespace Inc/Squarespace 6//v6//EN
BEGIN:VEVENT
UID:5d86d815d4e8684cb88097df@squarespace.com
DTSTAMP:20191024T232552Z
DTSTART:20200414T220000Z
DTEND:20200417T040000Z
SUMMARY:April Foundations Workshop - 3 Days
GEO:-36.947065;174.786564
LOCATION:Mangere War Memorial Hall\, Domain Road\, Mangere Bridge\, Aucklan
 d
END:VEVENT
END:VCALENDAR
