BEGIN:VCALENDAR
VERSION:2.0
PRODID:-//Squarespace Inc/Squarespace 6//v6//EN
BEGIN:VEVENT
UID:5bf1fb87575d1f96f7175b8e@squarespace.com
DTSTAMP:20190821T221926Z
DTSTART:20190405T210000Z
DTEND:20190407T040000Z
SUMMARY:April Foundations Workshop - Whangarei
GEO:-35.723716;174.31996
LOCATION:Northland Youth Theatre\, 86 Bank Street\, Whangarei
END:VEVENT
END:VCALENDAR
