BEGIN:VCALENDAR
VERSION:2.0
PRODID:-//Squarespace Inc/Squarespace 6//v6//EN
BEGIN:VEVENT
UID:5a300d7641920204e490d0b6@squarespace.com
DTSTAMP:20180410T221215Z
DTSTART:20180416T220000Z
DTEND:20180419T040000Z
SUMMARY:April Workshop - 3 Days
GEO:-36.878846;174.856931
LOCATION:Te Oro - Glen innes\, 98 Line Road\, Auckland\, Auckland\, 1072\, 
 New Zealand
END:VEVENT
END:VCALENDAR
