BEGIN:VCALENDAR
VERSION:2.0
PRODID:-//Squarespace Inc/Squarespace 6//v6//EN
BEGIN:VEVENT
UID:5bd514f7eef1a139a2052969@squarespace.com
DTSTAMP:20190922T020057Z
DTSTART:20190208T210000Z
DTEND:20190210T030000Z
SUMMARY:February Foundations Workshop - 2 Days
GEO:-36.969158;174.798858
LOCATION:Mangere Arts Centre\, Corner Bader Drive & Orly Avenue\, Mangere
END:VEVENT
END:VCALENDAR
