BEGIN:VCALENDAR
VERSION:2.0
PRODID:-//Squarespace Inc/Squarespace 6//v6//EN
BEGIN:VEVENT
UID:5d86d5d9d4e8684cb8807753@squarespace.com
DTSTAMP:20191024T232544Z
DTSTART:20200214T210000Z
DTEND:20200216T030000Z
SUMMARY:February Foundations Workshop - 2 Days
GEO:-36.842091;174.652065
LOCATION:Te Atatu Peninsula Community Centre\, 595 Te Atatu Road\, Auckland
END:VEVENT
END:VCALENDAR
