BEGIN:VCALENDAR
VERSION:2.0
PRODID:-//Squarespace Inc/Squarespace 6//v6//EN
BEGIN:VEVENT
UID:59f7a90e08466550b5deab98@squarespace.com
DTSTAMP:20180202T230954Z
DTSTART:20180209T210000Z
DTEND:20180211T030000Z
SUMMARY:Feb Workshop - 2 Days
GEO:-36.865687;174.74499
LOCATION:Empire Studios\, 2 Bond St\, Grey Lynn\, New Zealand
END:VEVENT
END:VCALENDAR
