BEGIN:VCALENDAR
VERSION:2.0
PRODID:-//Squarespace Inc/Squarespace 6//v6//EN
BEGIN:VEVENT
UID:5d86d21968af882378229675@squarespace.com
DTSTAMP:20191024T232601Z
DTSTART:20200121T210000Z
DTEND:20200124T030000Z
SUMMARY:January Foundations Workshop - 3 Days
GEO:-36.878804;174.856915
LOCATION:Te Oro\, 98 Line Road\, Glen Innes
END:VEVENT
END:VCALENDAR
