BEGIN:VCALENDAR
VERSION:2.0
PRODID:-//Squarespace Inc/Squarespace 6//v6//EN
BEGIN:VEVENT
UID:59fbbcf06c319451fad0f74b@squarespace.com
DTSTAMP:20180116T034325Z
DTSTART:20180122T210000Z
DTEND:20180126T030000Z
SUMMARY:Jan Workshop - 4 Days
GEO:-36.913043;174.649855
LOCATION:Glen Eden Recreation & Community Centre\, 44 Glendale Road\, Auckl
 and\, Auckland\, 0602\, New Zealand
END:VEVENT
END:VCALENDAR
