BEGIN:VCALENDAR
VERSION:2.0
PRODID:-//Squarespace Inc/Squarespace 6//v6//EN
BEGIN:VEVENT
UID:5bd5198171c10b825a07e131@squarespace.com
DTSTAMP:20190922T021604Z
DTSTART:20190715T220000Z
DTEND:20190719T040000Z
SUMMARY:July Foundations Workshop - 4 Days
GEO:-36.946898;174.786547
LOCATION:Mangere War Memorial Hall\, 23 Domain Road\, Mangere Bridge\, Auck
 land
END:VEVENT
END:VCALENDAR
