BEGIN:VCALENDAR
VERSION:2.0
PRODID:-//Squarespace Inc/Squarespace 6//v6//EN
BEGIN:VEVENT
UID:5d86d8dcd4e8684cb880a431@squarespace.com
DTSTAMP:20191204T221522Z
DTSTART:20200612T220000Z
DTEND:20200614T040000Z
SUMMARY:June Foundations Workshop - 2 Days
GEO:-36.85942;174.716387
LOCATION:Westpoint Performing Arts Centre\, 190 Meola Road\, Western Spring
 s\, Auckland 1022
END:VEVENT
END:VCALENDAR
