BEGIN:VCALENDAR
VERSION:2.0
PRODID:-//Squarespace Inc/Squarespace 6//v6//EN
BEGIN:VEVENT
UID:5d5dc36ea334370001d03255@squarespace.com
DTSTAMP:20190910T061919Z
DTSTART:20190920T220000Z
DTEND:20190922T040000Z
SUMMARY:September Foundations Workshop - Northland
GEO:-35.224842;173.956737
LOCATION:Kerikeri High School\, Hone Heke Road\, Kerikeri\, Northland
END:VEVENT
END:VCALENDAR
