BEGIN:VCALENDAR
VERSION:2.0
PRODID:-//Squarespace Inc/Squarespace 6//v6//EN
BEGIN:VEVENT
UID:5c60a8628165f527b77c8869@squarespace.com
DTSTAMP:20191201T222033Z
DTSTART:20201115T203000Z
DTEND:20201116T023000Z
SUMMARY:Auckland Teachers Workshop
GEO:-36.84846;174.763332
LOCATION:VENUE TBC\, AUCKLAND
END:VEVENT
END:VCALENDAR
