BEGIN:VCALENDAR
VERSION:2.0
PRODID:-//Squarespace Inc/Squarespace 6//v6//EN
BEGIN:VEVENT
UID:5a5d612571c10bc09430016c@squarespace.com
DTSTAMP:20180813T005111Z
DTSTART:20181122T203000Z
DTEND:20181123T023000Z
SUMMARY:Auckland Workshop
GEO:-36.868381;174.720332
LOCATION:Western Springs Garden Community Hall\, 956 Great North Road\, Auc
 kland\, 1022\, New Zealand
END:VEVENT
END:VCALENDAR
