BEGIN:VCALENDAR
VERSION:2.0
PRODID:-//Squarespace Inc/Squarespace 6//v6//EN
BEGIN:VEVENT
UID:5a5d55d724a694d7b873c48a@squarespace.com
DTSTAMP:20180813T004852Z
DTSTART:20181118T203000Z
DTEND:20181119T023000Z
SUMMARY:Christchurch Workshop
GEO:-43.529719;172.638166
LOCATION:Isaac Theatre Royal\, 145 Gloucester Street\, Christchurch\, 8011\
 , New Zealand
END:VEVENT
END:VCALENDAR
