BEGIN:VCALENDAR
VERSION:2.0
PRODID:-//Squarespace Inc/Squarespace 6//v6//EN
BEGIN:VEVENT
UID:5c60a77c104c7bb62a173485@squarespace.com
DTSTAMP:20190630T031424Z
DTSTART:20191120T203000Z
DTEND:20191121T023000Z
SUMMARY:Dunedin Teachers Workshop
GEO:-45.873052;170.498843
LOCATION:King Edward Court\, 291 Stuart Street\, Dunedin
END:VEVENT
END:VCALENDAR
