BEGIN:VCALENDAR
VERSION:2.0
PRODID:-//Squarespace Inc/Squarespace 6//v6//EN
BEGIN:VEVENT
UID:5a5d586253450ab899578470@squarespace.com
DTSTAMP:20181016T032620Z
DTSTART:20181119T203000Z
DTEND:20181120T023000Z
SUMMARY:Dunedin Workshop
GEO:-45.872823;170.49913
LOCATION:King Edward Court\, 284 Stuart St\, Dunedin\, OTA\, 9016\, New Zea
 land
END:VEVENT
END:VCALENDAR
