BEGIN:VCALENDAR
VERSION:2.0
PRODID:-//Squarespace Inc/Squarespace 6//v6//EN
BEGIN:VEVENT
UID:5c58d5378165f5be9d9deb5f@squarespace.com
DTSTAMP:20190228T003530Z
DTSTART:20191114T203000Z
DTEND:20191115T023000Z
SUMMARY:Napier Teachers Workshop
GEO:-39.492844;176.912018
LOCATION:Venue TBC\, Napier\, New Zealand
END:VEVENT
END:VCALENDAR
