BEGIN:VCALENDAR
VERSION:2.0
PRODID:-//Squarespace Inc/Squarespace 6//v6//EN
BEGIN:VEVENT
UID:5a5d59abe4966bc33bfcf757@squarespace.com
DTSTAMP:20190205T001343Z
DTSTART:20181121T203000Z
DTEND:20181122T023000Z
SUMMARY:Palmerston North Workshop
GEO:-40.358304;175.607622
LOCATION:Globe Theatre 2\, 312 Main Street\, Palmerston North\, Manawatu-Wa
 nganui\, 4410\, New Zealand
END:VEVENT
END:VCALENDAR
