BEGIN:VCALENDAR
VERSION:2.0
PRODID:-//Squarespace Inc/Squarespace 6//v6//EN
BEGIN:VEVENT
UID:5de4310cb93cc92d39c2a775@squarespace.com
DTSTAMP:20191201T215744Z
DTSTART:20201116T203000Z
DTEND:20201117T023000Z
SUMMARY:Rotorua Teachers Workshop
GEO:-38.136848;176.249746
LOCATION:VENUE TBC\, ROTORUA
END:VEVENT
END:VCALENDAR
