BEGIN:VCALENDAR
VERSION:2.0
PRODID:-//Squarespace Inc/Squarespace 6//v6//EN
BEGIN:VEVENT
UID:5de437587b2acb00e7d6a273@squarespace.com
DTSTAMP:20191201T220614Z
DTSTART:20201118T203000Z
DTEND:20201119T023000Z
SUMMARY:Taranaki Teachers Workshop
GEO:-39.353815;174.438272
LOCATION:VENUE TBC\, TARANAKI
END:VEVENT
END:VCALENDAR
