BEGIN:VCALENDAR
VERSION:2.0
PRODID:-//Squarespace Inc/Squarespace 6//v6//EN
BEGIN:VEVENT
UID:5c60a5ad7817f71b5be6f92f@squarespace.com
DTSTAMP:20190604T022537Z
DTSTART:20191118T203000Z
DTEND:20191119T023000Z
SUMMARY:Tauranga Teachers Workshop
GEO:-37.683007;176.167459
LOCATION:Baycourt Community & Art Centre\, 38 Durham Street\, Tauranga\, Ne
 w Zealand
END:VEVENT
END:VCALENDAR
