BEGIN:VCALENDAR
VERSION:2.0
PRODID:-//Squarespace Inc/Squarespace 6//v6//EN
BEGIN:VEVENT
UID:5de43b2f01908e6073faa580@squarespace.com
DTSTAMP:20191201T222014Z
DTSTART:20200507T213000Z
DTEND:20200508T033000Z
SUMMARY:Whangarei Teachers Workshop
GEO:-35.725112;174.323708
LOCATION:VENUE TBC\, WHANGAREI
END:VEVENT
END:VCALENDAR
