BEGIN:VCALENDAR
VERSION:2.0
PRODID:-//Squarespace Inc/Squarespace 6//v6//EN
BEGIN:VEVENT
UID:5a2b0e79e2c48397076a430a@squarespace.com
DTSTAMP:20180411T032349Z
DTSTART:20180503T220000Z
DTEND:20180504T040000Z
SUMMARY:Whangarei Workshop
GEO:-35.715821;174.318412
LOCATION:Whangarei Boys High\, Kent Road\, Whangarei\, Northland\, 0112\, N
 ew Zealand
END:VEVENT
END:VCALENDAR
