BEGIN:VCALENDAR
VERSION:2.0
PRODID:-//Squarespace Inc/Squarespace 6//v6//EN
BEGIN:VEVENT
UID:5d7aeaea3abcdf0a8ac2fead@squarespace.com
DTSTAMP:20191126T212559Z
DTSTART:20200318T060000Z
DTEND:20200328T070000Z
SUMMARY:Babble
GEO:-36.969158;174.798858
LOCATION:Mangere Arts Centre\, Bader Drive and Orly Avenue\, Mangere\, Auck
 land
END:VEVENT
END:VCALENDAR
