BEGIN:VCALENDAR
VERSION:2.0
PRODID:-//Squarespace Inc/Squarespace 6//v6//EN
BEGIN:VEVENT
UID:5bd509044785d3027297933a@squarespace.com
DTSTAMP:20190521T021943Z
DTSTART:20190121T210000Z
DTEND:20190125T030000Z
SUMMARY:January Foundations Workshop - 4 Days
GEO:-36.878804;174.856915
LOCATION:Te Oro\, 98 Line Road\, Glen Innes
END:VEVENT
END:VCALENDAR
