BEGIN:VCALENDAR
VERSION:2.0
PRODID:-//Squarespace Inc/Squarespace 6//v6//EN
BEGIN:VEVENT
UID:5d86d964b41b640ba53962ee@squarespace.com
DTSTAMP:20191204T221814Z
DTSTART:20200713T220000Z
DTEND:20200717T040000Z
SUMMARY:July Foundations Workshop - 4 Days
GEO:-36.969158;174.798858
LOCATION:Mangere Arts Centre\, Cnr. Bader Drive & Orly Ave\, Mangere\, Auck
 land
END:VEVENT
END:VCALENDAR
