BEGIN:VCALENDAR
VERSION:2.0
PRODID:-//Squarespace Inc/Squarespace 6//v6//EN
BEGIN:VEVENT
UID:5a3010cc0d9297e3b1099dff@squarespace.com
DTSTAMP:20181015T021252Z
DTSTART:20180715T220000Z
DTEND:20180719T040000Z
SUMMARY:July Workshop | 4 Days
GEO:-36.851849;174.762276
LOCATION:Limelight Room\, Aotea Centre
END:VEVENT
END:VCALENDAR
