BEGIN:VCALENDAR
VERSION:2.0
PRODID:-//Squarespace Inc/Squarespace 6//v6//EN
BEGIN:VEVENT
UID:5bd51820e79c702f8796bcad@squarespace.com
DTSTAMP:20190922T021327Z
DTSTART:20190614T220000Z
DTEND:20190616T040000Z
SUMMARY:June Foundations Workshop - 2 Days
GEO:-36.842091;174.652065
LOCATION:Te Atatu Peninsula Community Centre\, 595 Te Atatu Road\, Auckland 
 0610
END:VEVENT
END:VCALENDAR
