BEGIN:VCALENDAR
VERSION:2.0
PRODID:-//Squarespace Inc/Squarespace 6//v6//EN
BEGIN:VEVENT
UID:5a300f970d9297e3b1094c9c@squarespace.com
DTSTAMP:20180605T022735Z
DTSTART:20180615T050000Z
DTEND:20180616T060000Z
SUMMARY:June Workshop - Fri Eve + Saturday Day
GEO:-36.966291;174.826264
LOCATION:Metro Theatre\, 362 Massey Road\, Auckland\, 2024\, New Zealand
END:VEVENT
END:VCALENDAR
