BEGIN:VCALENDAR
VERSION:2.0
PRODID:-//Squarespace Inc/Squarespace 6//v6//EN
BEGIN:VEVENT
UID:5bd51a469140b7c8c13ade2a@squarespace.com
DTSTAMP:20190908T223428Z
DTSTART:20190913T220000Z
DTEND:20190915T040000Z
SUMMARY:September Foundations Workshop - Auckland
GEO:-36.857432;174.758005
LOCATION:The Actors Programme\, 283 Karangahape Road\, Auckland 1010
END:VEVENT
END:VCALENDAR
