BEGIN:VCALENDAR
VERSION:2.0
PRODID:-//Squarespace Inc/Squarespace 6//v6//EN
BEGIN:VEVENT
UID:5d86d9fa47101b6c86a053cb@squarespace.com
DTSTAMP:20191126T013933Z
DTSTART:20200911T220000Z
DTEND:20200913T040000Z
SUMMARY:September Foundations Workshop - 2 Days
GEO:38.289538;-90.394842
LOCATION:VENUE TBC
END:VEVENT
END:VCALENDAR
